BEGIN:VCALENDAR
VERSION:2.0
PRODID:-//MorningSun - ECPv6.15.20//NONSGML v1.0//EN
CALSCALE:GREGORIAN
METHOD:PUBLISH
X-WR-CALNAME:MorningSun
X-ORIGINAL-URL:https://morningsuncommunity.org
X-WR-CALDESC:Events for MorningSun
REFRESH-INTERVAL;VALUE=DURATION:PT1H
X-Robots-Tag:noindex
X-PUBLISHED-TTL:PT1H
BEGIN:VTIMEZONE
TZID:America/New_York
BEGIN:DAYLIGHT
TZOFFSETFROM:-0500
TZOFFSETTO:-0400
TZNAME:EDT
DTSTART:20250309T070000
END:DAYLIGHT
BEGIN:STANDARD
TZOFFSETFROM:-0400
TZOFFSETTO:-0500
TZNAME:EST
DTSTART:20251102T060000
END:STANDARD
BEGIN:DAYLIGHT
TZOFFSETFROM:-0500
TZOFFSETTO:-0400
TZNAME:EDT
DTSTART:20260308T070000
END:DAYLIGHT
BEGIN:STANDARD
TZOFFSETFROM:-0400
TZOFFSETTO:-0500
TZNAME:EST
DTSTART:20261101T060000
END:STANDARD
BEGIN:DAYLIGHT
TZOFFSETFROM:-0500
TZOFFSETTO:-0400
TZNAME:EDT
DTSTART:20270314T070000
END:DAYLIGHT
BEGIN:STANDARD
TZOFFSETFROM:-0400
TZOFFSETTO:-0500
TZNAME:EST
DTSTART:20271107T060000
END:STANDARD
END:VTIMEZONE
BEGIN:VEVENT
DTSTART;VALUE=DATE:20260413
DTEND;VALUE=DATE:20260503
DTSTAMP:20260423T031036
CREATED:20260102T221608Z
LAST-MODIFIED:20260102T221608Z
UID:10000451-1776038400-1777766399@morningsuncommunity.org
SUMMARY:Spring Rest
DESCRIPTION:MorningSun will be closed for a Spring Rest!!!\nWishing you transformation\, joy and ease in your practice!
URL:https://morningsuncommunity.org/event/spring-rest/
LOCATION:MorningSun Mindfulness Center\, 81 Rose Apple Lane\, Alstead\, NH\, 03602\, United States
GEO:43.0839868;-72.2734936
X-APPLE-STRUCTURED-LOCATION;VALUE=URI;X-ADDRESS=MorningSun Mindfulness Center 81 Rose Apple Lane Alstead NH 03602 United States;X-APPLE-RADIUS=500;X-TITLE=81 Rose Apple Lane:geo:-72.2734936,43.0839868
END:VEVENT
END:VCALENDAR